BEGIN:VCALENDAR
VERSION:2.0
PRODID:-//ChamberMaster//Event Calendar 2.0//EN
METHOD:PUBLISH
X-PUBLISHED-TTL:P3D
REFRESH-INTERVAL:P3D
CALSCALE:GREGORIAN
BEGIN:VEVENT
DTSTART:20110927T230000Z
DTEND:20110927T230000Z
X-MICROSOFT-CDO-ALLDAYEVENT:FALSE
SUMMARY:Never Forget-Never Again! The Sequel!
DESCRIPTION:On September 27\, 2011 at Berean Baptist Church we will present 9/11 Director Jules Naudet and George Sleigh\, a survivor from the 91st floor of the North Tower.  These men will detail their own personal stories\, give details of heroic acts they witnessed and recount the many tragedies that unfolded right before their eyes.  \n\nIt is our desire to offer this to our community\, free and open to the public\, as a reminder that at 8:46 AM on September 11\, 2001\, our country changed forever
X-ALT-DESC;FMTTYPE=text/html:On September 27\, 2011 at Berean Baptist Church we will present 9/11 Director Jules Naudet and George Sleigh\, a survivor from the 91st floor of the North Tower.  These men will detail their own personal stories\, give details of heroic acts they witnessed and recount the many tragedies that unfolded right before their eyes.  \n\nIt is our desire to offer this to our community\, free and open to the public\, as a reminder that at 8:46 AM on September 11\, 2001\, our country changed forever
LOCATION:Berean Baptist Church\, 2145 Middle Bellville Rd.
UID:e.2256.605
SEQUENCE:3
DTSTAMP:20260424T121023Z
URL:https://portal.richlandareachamber.com/events/details/never-forget-never-again-the-sequel-09-27-2011-605
END:VEVENT

END:VCALENDAR
