BEGIN:VCALENDAR
VERSION:2.0
PRODID:-//ChamberMaster//Event Calendar 2.0//EN
METHOD:PUBLISH
X-PUBLISHED-TTL:P3D
REFRESH-INTERVAL:P3D
CALSCALE:GREGORIAN
BEGIN:VEVENT
DTSTART;VALUE=DATE:20110304
DTEND;VALUE=DATE:20110305
TRANSP:TRANSPARENT
X-MICROSOFT-CDO-ALLDAYEVENT:TRUE
SUMMARY:Neos Nouveau
DESCRIPTION:Neos Nouveau\nFriday\, March 4th\, 2011\nSaturday\, March 5th\, 2011  8:00 PM\n8:00 PMA cutting-edge\, world-premiere performance focuses on the fusion of movement with the visual arts and brings world-class dance to North Central Ohio.\n\nIn: Default\n\n\n\n\n\n\n\nRenaissance Theatre - www.mansfieldtickets.com - 419-522-2726
X-ALT-DESC;FMTTYPE=text/html:Neos Nouveau\nFriday\, March 4th\, 2011\nSaturday\, March 5th\, 2011  8:00 PM\n8:00 PMA cutting-edge\, world-premiere performance focuses on the fusion of movement with the visual arts and brings world-class dance to North Central Ohio.\n\nIn: Default\n\n\n\n\n\n\n\nRenaissance Theatre - www.mansfieldtickets.com - 419-522-2726\n
LOCATION:
UID:e.2256.411
SEQUENCE:3
DTSTAMP:20260424T225445Z
URL:https://portal.richlandareachamber.com/events/details/neos-nouveau-03-04-2011-411
END:VEVENT

END:VCALENDAR
