BEGIN:VCALENDAR
VERSION:2.0
PRODID:-//ChamberMaster//Event Calendar 2.0//EN
METHOD:PUBLISH
X-PUBLISHED-TTL:P3D
REFRESH-INTERVAL:P3D
CALSCALE:GREGORIAN
BEGIN:VEVENT
DTSTART;VALUE=DATE:20110506
DTEND;VALUE=DATE:20110507
TRANSP:TRANSPARENT
X-MICROSOFT-CDO-ALLDAYEVENT:TRUE
SUMMARY:Neos Dances with the Stars!
DESCRIPTION:Neos Dances with the Stars!\nFriday\, May 6th\, 2011  8:00 PM  Neos Dance Theatre is reflecting the momentum of dance in our culture today. Robert Wesner\, Artistic Director\, choreographs most of the repertoire\, in collaboration with the dancers of Neos Dance Theatre.\n\nIn: Default\n\n\n\n\n\n\nRenaissance Theatre - www.mansfieldtickets.com - 419-522-2726
X-ALT-DESC;FMTTYPE=text/html:Neos Dances with the Stars!\nFriday\, May 6th\, 2011  8:00 PM  Neos Dance Theatre is reflecting the momentum of dance in our culture today. Robert Wesner\, Artistic Director\, choreographs most of the repertoire\, in collaboration with the dancers of Neos Dance Theatre.\n\nIn: Default\n\n\n\n\n\n\nRenaissance Theatre - www.mansfieldtickets.com - 419-522-2726\n
LOCATION:
UID:e.2256.425
SEQUENCE:3
DTSTAMP:20260424T195345Z
URL:https://portal.richlandareachamber.com/events/details/neos-dances-with-the-stars-05-06-2011-425
END:VEVENT

END:VCALENDAR
