BEGIN:VCALENDAR
VERSION:2.0
PRODID:-//ChamberMaster//Event Calendar 2.0//EN
METHOD:PUBLISH
X-PUBLISHED-TTL:P3D
REFRESH-INTERVAL:P3D
CALSCALE:GREGORIAN
BEGIN:VEVENT
DTSTART:20110109T193000Z
DTEND:20110109T193000Z
X-MICROSOFT-CDO-ALLDAYEVENT:FALSE
SUMMARY:MY Theatre with the OSU Mansfield Theatre Department
DESCRIPTION:The Music Man Junior \n\nDirect from Broadway\, this American classic follows the adventures of fast-talking traveling salesman Harold Hill and his visit to River City\, Iowa where he meets and falls in love with the willful\, spinster librarian\, Marian Paroo.  With his word-a-second style\, "Professor" Harold Hill convinces the town to adopt his revolutionary music program\, "The Think System."  Chaos ensues as Hill's credentials are questioned and he is forced to prove himself to the citizens of River City.  While the Mayor suggests tarring and feathering\, true love prevails as Marian sugest the newly found band play for the crowd.  The townspeople\, including the mayor\, are all thrilled\; all the parents call to their sons.  The mayor shakes Harold's hand and the crowd cheers\; the play ends as Marian and Harold embrace.  With a pop standard that includes "Trouble"\, "76 Trombones\," and "Till There Was You."  The Music Man Junior is a perfect production.
X-ALT-DESC;FMTTYPE=text/html:The Music Man Junior \n\nDirect from Broadway\, this American classic follows the adventures of fast-talking traveling salesman Harold Hill and his visit to River City\, Iowa where he meets and falls in love with the willful\, spinster librarian\, Marian Paroo.  With his word-a-second style\, "Professor" Harold Hill convinces the town to adopt his revolutionary music program\, "The Think System."  Chaos ensues as Hill's credentials are questioned and he is forced to prove himself to the citizens of River City.  While the Mayor suggests tarring and feathering\, true love prevails as Marian sugest the newly found band play for the crowd.  The townspeople\, including the mayor\, are all thrilled\; all the parents call to their sons.  The mayor shakes Harold's hand and the crowd cheers\; the play ends as Marian and Harold embrace.  With a pop standard that includes "Trouble"\, "76 Trombones\," and "Till There Was You."  The Music Man Junior is a perfect production.\n\n
LOCATION:Founders Auditorium at The Ohio State University at Mansfield
UID:e.2256.352
SEQUENCE:3
DTSTAMP:20260425T021411Z
URL:https://portal.richlandareachamber.com/events/details/my-theatre-with-the-osu-mansfield-theatre-department-01-09-2011-352
END:VEVENT

END:VCALENDAR
