BEGIN:VCALENDAR
VERSION:2.0
PRODID:-//ChamberMaster//Event Calendar 2.0//EN
METHOD:PUBLISH
X-PUBLISHED-TTL:P3D
REFRESH-INTERVAL:P3D
CALSCALE:GREGORIAN
BEGIN:VEVENT
DTSTART:20100423T213000Z
DTEND:20100423T213000Z
X-MICROSOFT-CDO-ALLDAYEVENT:FALSE
SUMMARY:Murder Mystery Dinner
DESCRIPTION:The OSU-M/NCSC Office of Campus Life will sponsor its annual murder mystery dinner on April 23 (Fri.) at 6:30 p.m. in the Eisenhower Student Union.\n	This year's program\, ''Gambling on Murder\,'' features the opportunity for the audience to help solve the mystery.  Cost per person is $10 and includes the show and a dinner catered by the Brown Derby Roadhouse.\n	To obtain tickets\, call 419-755-4314.
X-ALT-DESC;FMTTYPE=text/html:The OSU-M/NCSC Office of Campus Life will sponsor its annual murder mystery dinner on April 23 (Fri.) at 6:30 p.m. in the Eisenhower Student Union.\n	This year's program\, ''Gambling on Murder\,'' features the opportunity for the audience to help solve the mystery.  Cost per person is $10 and includes the show and a dinner catered by the Brown Derby Roadhouse.\n	To obtain tickets\, call 419-755-4314.\n\n
LOCATION:At the Ohio State University at Mansfield\, Eisenhower Hall in the Student Union\, 2nd floor.
UID:e.2256.299
SEQUENCE:3
DTSTAMP:20260425T151836Z
URL:https://portal.richlandareachamber.com/events/details/murder-mystery-dinner-04-23-2010-299
END:VEVENT

END:VCALENDAR
