BEGIN:VCALENDAR
VERSION:2.0
PRODID:-//ChamberMaster//Event Calendar 2.0//EN
METHOD:PUBLISH
X-PUBLISHED-TTL:P3D
REFRESH-INTERVAL:P3D
CALSCALE:GREGORIAN
BEGIN:VEVENT
DTSTART;VALUE=DATE:20100227
DTEND;VALUE=DATE:20100228
TRANSP:TRANSPARENT
X-MICROSOFT-CDO-ALLDAYEVENT:TRUE
SUMMARY:Murder At Rutherford House Dinner Theater at the Ohio State Reformatory
DESCRIPTION:It is the fifth anniversary of the death of Lord Rutherford.  Lady Rutherford is throwing her annual dinner in commemoration of the event --to which you are cordially invited.  The dates are: February 19\, 20\, 26\, 27\, 2010. What have you observed?  Have you a clue to the killer?  Clues seem to be everywhere\, but which ones count and which are red herrings?  Ultimately\, there is a parade of suspects.  You may question them.  Perhaps you ask just the right question at the right\n    time and unmask the murderer.  Perhaps you ask the wrong question and become the prime suspect!  In the end\, all is revealed and justice prevails.  The Silver Sleuth Award is given to the guest who best explained the who\, why and how dunit of the murder at Rutherford House.  Ticket sales will start 2 weeks in advance of the production and are $50. per person. No reserved seats. Master Card\, Visa\, check or money order accepted.  Murder at the Rutherford House was written\n    by Tom Chiodo and Peter DePietro\; original music by James Followell.\n\n\n\nFor more information\, please call 419-522-2644 or visit www.mrps.org\n\n100 Reformatory Rd. \, Mansfield\, OH 44905.
X-ALT-DESC;FMTTYPE=text/html:<p>\n    It is the fifth anniversary of the death of Lord Rutherford.&nbsp\; Lady Rutherford is throwing her annual dinner in commemoration of the event --to which you are cordially invited.&nbsp\; The dates are: February 19\, 20\, 26\, 27\, 2010. What have you observed?&nbsp\; Have you a clue to the killer?&nbsp\; Clues seem to be everywhere\, but which ones count and which are red herrings?&nbsp\; Ultimately\, there is a parade of suspects.&nbsp\; You may question them.&nbsp\; Perhaps you ask just the right question at the right\n    time and unmask the murderer.&nbsp\; Perhaps you ask the wrong question and become the prime suspect!&nbsp\; In the end\, all is revealed and justice prevails.&nbsp\; The Silver Sleuth Award is given to the guest who best explained the who\, why and how dunit of the murder at Rutherford House.&nbsp\; Ticket sales will start 2 weeks in advance of the production and are $50. per person. No reserved seats.&nbsp\;Master Card\, Visa\, check or money order accepted.&nbsp\; <em>Murder at the Rutherford House</em> was written\n    by Tom Chiodo and Peter DePietro\; original music by James Followell.\n</p>\n<p>\n</p>\nFor more information\, please call 419-522-2644 or visit www.mrps.org<br />\n<span class="event_location">100 Reformatory Rd. \, Mansfield\, OH 44905.</span> 
LOCATION:
UID:e.2256.176
SEQUENCE:3
DTSTAMP:20260425T180747Z
URL:https://portal.richlandareachamber.com/events/details/murder-at-rutherford-house-dinner-theater-at-the-ohio-state-reformatory-02-27-2010-176
END:VEVENT

END:VCALENDAR
