BEGIN:VCALENDAR
VERSION:2.0
PRODID:-//ChamberMaster//Event Calendar 2.0//EN
METHOD:PUBLISH
X-PUBLISHED-TTL:P3D
REFRESH-INTERVAL:P3D
CALSCALE:GREGORIAN
BEGIN:VEVENT
DTSTART:20120930T120000Z
DTEND:20120930T120000Z
X-MICROSOFT-CDO-ALLDAYEVENT:FALSE
SUMMARY:Mum Sale
DESCRIPTION:8" Mums ~ $5.99 each or 4 for $20\n6" Mums ~ $3.99 each or 3 for $10\nMega Mums $19.99 each
X-ALT-DESC;FMTTYPE=text/html:8" Mums ~ $5.99 each or 4 for $20\n6" Mums ~ $3.99 each or 3 for $10\nMega Mums $19.99 each
LOCATION:Alta Florist & Greenhouse\, corner of South Home Road and Marion Avenue
UID:e.2256.683
SEQUENCE:3
DTSTAMP:20260420T075748Z
URL:https://portal.richlandareachamber.com/events/details/mum-sale-09-30-2012-683
END:VEVENT

END:VCALENDAR
