BEGIN:VCALENDAR
VERSION:2.0
PRODID:-//ChamberMaster//Event Calendar 2.0//EN
METHOD:PUBLISH
X-PUBLISHED-TTL:P3D
REFRESH-INTERVAL:P3D
CALSCALE:GREGORIAN
BEGIN:VEVENT
DTSTART:20130312T220000Z
DTEND:20130425T230000Z
X-MICROSOFT-CDO-ALLDAYEVENT:FALSE
SUMMARY:Mudder Boot Camp
DESCRIPTION:Want to get Ready for the Tough Mudder? Fit 1 CrossFit is offering a Package deal that includes 4 classes a week to get you ready for the Tough Mudder.   As the event gets closer\, rates will be prorated.\nClass Schedule is: Tuesday & Thursday 6:00PM Saturday 11:00AM Sunday 3:00PM
X-ALT-DESC;FMTTYPE=text/html:Want to get Ready for the Tough Mudder? Fit 1 CrossFit is offering a Package deal that includes 4 classes a week to get you ready for the Tough Mudder.   As the event gets closer\, rates will be prorated.\nClass Schedule is: Tuesday & Thursday 6:00PM Saturday 11:00AM Sunday 3:00PM \n\n
LOCATION:1458 Lexington Avenue Mansfield\, Ohio 44907
UID:e.2256.738
SEQUENCE:3
DTSTAMP:20260419T221734Z
URL:https://portal.richlandareachamber.com/events/details/mudder-boot-camp-03-12-2013-738
END:VEVENT

END:VCALENDAR
