BEGIN:VCALENDAR
VERSION:2.0
PRODID:-//ChamberMaster//Event Calendar 2.0//EN
METHOD:PUBLISH
X-PUBLISHED-TTL:P3D
REFRESH-INTERVAL:P3D
CALSCALE:GREGORIAN
BEGIN:VEVENT
DTSTART:20120428T130000Z
DTEND:20120428T160000Z
X-MICROSOFT-CDO-ALLDAYEVENT:FALSE
SUMMARY:Mohican Wildlife Weekend
DESCRIPTION:Saturday\, April 28th \n9:00 am to 12:00 PM Pancake Brunch\nAll you can eat   pancakes & sausage\, juice\, coffee\, hot chocolate\, applesauce\,  Adults  $7.00\, 5-10 years $5.00\, under 4 free \nActivities are Free:\n1:00 PM- Family Geo caching- conservation activity \n2:00 PM- Puppet Show – Barbara Damron\, Queenbee Puppetry
X-ALT-DESC;FMTTYPE=text/html:Saturday\, April 28th \n9:00 am to 12:00 PM Pancake Brunch\nAll you can eat   pancakes & sausage\, juice\, coffee\, hot chocolate\, applesauce\,  Adults  $7.00\, 5-10 years $5.00\, under 4 free \nActivities are Free:\n1:00 PM- Family Geo caching- conservation activity \n2:00 PM- Puppet Show – Barbara Damron\, Queenbee Puppetry \n
LOCATION:The event will be at the Environmental Learning Center
UID:e.2256.657
SEQUENCE:3
DTSTAMP:20260422T162535Z
URL:https://portal.richlandareachamber.com/events/details/mohican-wildlife-weekend-04-28-2012-657
END:VEVENT

END:VCALENDAR
