BEGIN:VCALENDAR
VERSION:2.0
PRODID:-//ChamberMaster//Event Calendar 2.0//EN
METHOD:PUBLISH
X-PUBLISHED-TTL:P3D
REFRESH-INTERVAL:P3D
CALSCALE:GREGORIAN
BEGIN:VEVENT
DTSTART:20120308T180000Z
DTEND:20120308T180000Z
X-MICROSOFT-CDO-ALLDAYEVENT:FALSE
SUMMARY:Mohican Wildlife Weekend
DESCRIPTION:6PM-7PM - Welcome Reception\; Raffle held for many donated items. Registration for special or additional activities will only be announced at the Welcome Reception and Keynote Presentation so you don't want to miss it!\n7PM-8PM - Keynote Speaker: Scott Peters\, Ohio Division of Wildlife: "Predators of Ohio".\n 9:00 PM Campfire:  Environmental and fun songs & stories for the family\, roasted marshmallows.  Overnight accommodations are available Friday and Saturday night.  \nCheck out mohicanwildlifeweekend.com for more activities.
X-ALT-DESC;FMTTYPE=text/html:6PM-7PM - Welcome Reception\; Raffle held for many donated items. Registration for special or additional activities will only be announced at the Welcome Reception and Keynote Presentation so you don't want to miss it!\n7PM-8PM - Keynote Speaker: Scott Peters\, Ohio Division of Wildlife: "Predators of Ohio".\n 9:00 PM Campfire:  Environmental and fun songs & stories for the family\, roasted marshmallows.  Overnight accommodations are available Friday and Saturday night.  \nCheck out mohicanwildlifeweekend.com for more activities.
LOCATION:The event will be at the Environmental Learning Center
UID:e.2256.656
SEQUENCE:3
DTSTAMP:20260422T175929Z
URL:https://portal.richlandareachamber.com/events/details/mohican-wildlife-weekend-03-08-2012-656
END:VEVENT

END:VCALENDAR
