BEGIN:VCALENDAR
VERSION:2.0
PRODID:-//ChamberMaster//Event Calendar 2.0//EN
METHOD:PUBLISH
X-PUBLISHED-TTL:P3D
REFRESH-INTERVAL:P3D
CALSCALE:GREGORIAN
BEGIN:VEVENT
DTSTART:20130427T130000Z
DTEND:20130427T160000Z
X-MICROSOFT-CDO-ALLDAYEVENT:FALSE
SUMMARY:Mohican Outdoor School Pancake Brunch and Wildlife weekend activities
DESCRIPTION:Pancake Brunch 9am-12pm. All you can eat pancakes and sausage plus juice\, coffee\, hot chocolate and applesauce. Adults $7\, 5-10 years $5\, under 4 free. \nFree Wildlife weekend activities: Pond Exploration & make it-take it craft 10am-12pm.
X-ALT-DESC;FMTTYPE=text/html:Pancake Brunch 9am-12pm. All you can eat pancakes and sausage plus juice\, coffee\, hot chocolate and applesauce. Adults $7\, 5-10 years $5\, under 4 free. \nFree Wildlife weekend activities: Pond Exploration & make it-take it craft 10am-12pm. \n
LOCATION:Mohican Outdoor School's Environmental Learning Center
UID:e.2256.771
SEQUENCE:3
DTSTAMP:20260419T222827Z
URL:https://portal.richlandareachamber.com/events/details/mohican-outdoor-school-pancake-brunch-and-wildlife-weekend-activities-04-27-2013-771
END:VEVENT

END:VCALENDAR
