BEGIN:VCALENDAR
VERSION:2.0
PRODID:-//ChamberMaster//Event Calendar 2.0//EN
METHOD:PUBLISH
X-PUBLISHED-TTL:P3D
REFRESH-INTERVAL:P3D
CALSCALE:GREGORIAN
BEGIN:VEVENT
DTSTART;VALUE=DATE:20100611
DTEND;VALUE=DATE:20100620
TRANSP:TRANSPARENT
X-MICROSOFT-CDO-ALLDAYEVENT:TRUE
SUMMARY:Miss Ohio Week at the Renaissance Theatre
DESCRIPTION:Miss Ohio Week begins with the Festival on Friday\, June 11 till Sunday\, June 14th. Rides\, games\, crafts and food vendors will be on the square from 12:00 PM - 11:00 PM. On Sunday\, June 14th at 2:00 PM\, the Miss Ohio Parade steps off from Marion Ave. & Maple St. to the Square. Miss Ohio 2010 will be held at the Renaissance Theatre where the Finals will take place Saturday June 19\, 2010.\n\n\n\nFor more information\, please call 419-522-6677 or visit www.missohio.org.\n\n138 Park Ave. West \, Mansfield\, OH 44902.
X-ALT-DESC;FMTTYPE=text/html:<p>\n    Miss Ohio Week begins with the Festival on Friday\, June 11 till Sunday\, June 14th. Rides\, games\, crafts and food vendors will be on the square from 12:00 PM - 11:00 PM. On Sunday\, June 14th at 2:00 PM\, the Miss Ohio Parade steps off from Marion Ave. &amp\; Maple St. to the Square. Miss Ohio 2010 will be held at the Renaissance Theatre where the Finals will take place Saturday June 19\, 2010.\n</p>\n<p>\n</p>\nFor more information\, please call 419-522-6677 or visit www.missohio.org.<br />\n<span class="event_location">138 Park Ave. West \, Mansfield\, OH 44902.</span> 
LOCATION:
UID:e.2256.184
SEQUENCE:3
DTSTAMP:20260425T121751Z
URL:https://portal.richlandareachamber.com/events/details/miss-ohio-week-at-the-renaissance-theatre-06-11-2010-184
END:VEVENT

END:VCALENDAR
