BEGIN:VCALENDAR
VERSION:2.0
PRODID:-//ChamberMaster//Event Calendar 2.0//EN
METHOD:PUBLISH
X-PUBLISHED-TTL:P3D
REFRESH-INTERVAL:P3D
CALSCALE:GREGORIAN
BEGIN:VEVENT
DTSTART:20110610T120000Z
DTEND:20110610T120000Z
X-MICROSOFT-CDO-ALLDAYEVENT:FALSE
SUMMARY:Miss Ohio
DESCRIPTION:Miss Ohio Week.
X-ALT-DESC;FMTTYPE=text/html:Miss Ohio Week.
LOCATION:Park Ave West
UID:e.2256.547
SEQUENCE:3
DTSTAMP:20260424T195212Z
URL:https://portal.richlandareachamber.com/events/details/miss-ohio-06-10-2011-547
END:VEVENT

END:VCALENDAR
