BEGIN:VCALENDAR
VERSION:2.0
PRODID:-//ChamberMaster//Event Calendar 2.0//EN
METHOD:PUBLISH
X-PUBLISHED-TTL:P3D
REFRESH-INTERVAL:P3D
CALSCALE:GREGORIAN
BEGIN:VEVENT
DTSTART:20100414T143000Z
DTEND:20100414T143000Z
X-MICROSOFT-CDO-ALLDAYEVENT:FALSE
SUMMARY:Mexican art exhibition
DESCRIPTION:The opening event for OSU Manfield Latino Festival will be an art exhibition of Mexican artists that is part of the private collection of the late Marion and Wynn Goodman.  An opening reception will be held April 26 (Mon.) from 11:30 a.m. – 1:00 p.m. in the Eisenhower Student Union
X-ALT-DESC;FMTTYPE=text/html:The opening event for OSU Manfield Latino Festival will be an art exhibition of Mexican artists that is part of the private collection of the late Marion and Wynn Goodman.  An opening reception will be held April 26 (Mon.) from 11:30 a.m. – 1:00 p.m. in the Eisenhower Student Union
LOCATION:Eisenhower Student Union
UID:e.2256.304
SEQUENCE:3
DTSTAMP:20260425T151426Z
URL:https://portal.richlandareachamber.com/events/details/mexican-art-exhibition-04-14-2010-304
END:VEVENT

END:VCALENDAR
