BEGIN:VCALENDAR
VERSION:2.0
PRODID:-//ChamberMaster//Event Calendar 2.0//EN
METHOD:PUBLISH
X-PUBLISHED-TTL:P3D
REFRESH-INTERVAL:P3D
CALSCALE:GREGORIAN
BEGIN:VEVENT
DTSTART:20100127T163000Z
DTEND:20101231T180000Z
X-MICROSOFT-CDO-ALLDAYEVENT:FALSE
SUMMARY:Men's Lunch Bunch
DESCRIPTION:Luncheon Support group for men. Held the 4th Wednesday of each month.
X-ALT-DESC;FMTTYPE=text/html:Luncheon Support group for men. Held the 4th Wednesday of each month.
LOCATION:Perkins Restaurant\, Ashland
UID:e.2256.270
SEQUENCE:3
DTSTAMP:20260425T033546Z
URL:https://portal.richlandareachamber.com/events/details/men-s-lunch-bunch-01-27-2010-270
END:VEVENT

END:VCALENDAR
