BEGIN:VCALENDAR
VERSION:2.0
PRODID:-//ChamberMaster//Event Calendar 2.0//EN
METHOD:PUBLISH
X-PUBLISHED-TTL:P3D
REFRESH-INTERVAL:P3D
CALSCALE:GREGORIAN
BEGIN:VEVENT
DTSTART:20100118T213000Z
DTEND:20101231T230000Z
X-MICROSOFT-CDO-ALLDAYEVENT:FALSE
SUMMARY:Men's Dinner Group
DESCRIPTION:Support group for men experiencing difficulty with their grief.  Held the 3rd Monday of each month.
X-ALT-DESC;FMTTYPE=text/html:Support group for men experiencing difficulty with their grief.  Held the 3rd Monday of each month.
LOCATION:Hospice House\, Ashland 1050 Dauch Drive If using a GPS for directions\, please enter the address 2750 Mifflin Avenue. Dauch Drive does not show up on GPS or any mapping websites.
UID:e.2256.269
SEQUENCE:3
DTSTAMP:20260425T033413Z
URL:https://portal.richlandareachamber.com/events/details/men-s-dinner-group-01-18-2010-269
END:VEVENT

END:VCALENDAR
