BEGIN:VCALENDAR
VERSION:2.0
PRODID:-//ChamberMaster//Event Calendar 2.0//EN
METHOD:PUBLISH
X-PUBLISHED-TTL:P3D
REFRESH-INTERVAL:P3D
CALSCALE:GREGORIAN
BEGIN:VEVENT
DTSTART:20110526T170000Z
DTEND:20110526T170000Z
X-MICROSOFT-CDO-ALLDAYEVENT:FALSE
SUMMARY:MEMORIAL DAY MINI GOLF EVENT
DESCRIPTION:MINI GOLF $1.00 ALL DAY ON MEMORIAL DAY
X-ALT-DESC;FMTTYPE=text/html:MINI GOLF $1.00 ALL DAY ON MEMORIAL DAY
LOCATION:1280 S. MAIN STREET MANSFIELD\, OH 44907
UID:e.2256.587
SEQUENCE:3
DTSTAMP:20260424T195258Z
URL:https://portal.richlandareachamber.com/events/details/memorial-day-mini-golf-event-05-26-2011-587
END:VEVENT

END:VCALENDAR
