BEGIN:VCALENDAR
VERSION:2.0
PRODID:-//ChamberMaster//Event Calendar 2.0//EN
METHOD:PUBLISH
X-PUBLISHED-TTL:P3D
REFRESH-INTERVAL:P3D
CALSCALE:GREGORIAN
BEGIN:VEVENT
DTSTART:20111221T180000Z
DTEND:20111221T180000Z
X-MICROSOFT-CDO-ALLDAYEVENT:FALSE
SUMMARY:Membership Drive
DESCRIPTION:Membership drive for our non profit community and senior center. $48. annual or $72. couple annual dues.  Only need to be 50 plus to join--gift certificates available for membership and bus trips.  Member privileges include: Monday through Friday exercise classes for all levels\, euchre\, bingo\, pinochle\, other card clubs\, center bus trips and social parties.  GREAT way to support our center!
X-ALT-DESC;FMTTYPE=text/html:Membership drive for our non profit community and senior center. $48. annual or $72. couple annual dues.  Only need to be 50 plus to join--gift certificates available for membership and bus trips.  Member privileges include: Monday through Friday exercise classes for all levels\, euchre\, bingo\, pinochle\, other card clubs\, center bus trips and social parties.  GREAT way to support our center!  
LOCATION:154 N Gamble Street\, Shelby\, OHio Take 39 to Shelby turn left on Main Street and right on Gamble. Head north past 2 lights and 1/4 mile on left
UID:e.2256.635
SEQUENCE:3
DTSTAMP:20260424T083643Z
URL:https://portal.richlandareachamber.com/events/details/membership-drive-12-21-2011-635
END:VEVENT

END:VCALENDAR
