BEGIN:VCALENDAR
VERSION:2.0
PRODID:-//ChamberMaster//Event Calendar 2.0//EN
METHOD:PUBLISH
X-PUBLISHED-TTL:P3D
REFRESH-INTERVAL:P3D
CALSCALE:GREGORIAN
BEGIN:VEVENT
DTSTART:20120405T200000Z
DTEND:20120406T030000Z
X-MICROSOFT-CDO-ALLDAYEVENT:FALSE
SUMMARY:Membership Drive
DESCRIPTION:Cirque Du Soleil special performance at Wolstein Center at Cleveland State University 7:30pm show.  Package includes motorcoach transportation\, ticket to show\, all taxes and gratuities.  $95. Level 1 ticket/bus\, $124. premier ticket/bus.  MUST SIGN UP BY JANUARY 9th!
X-ALT-DESC;FMTTYPE=text/html:Cirque Du Soleil special performance at Wolstein Center at Cleveland State University 7:30pm show.  Package includes motorcoach transportation\, ticket to show\, all taxes and gratuities.  $95. Level 1 ticket/bus\, $124. premier ticket/bus.  MUST SIGN UP BY JANUARY 9th! 
LOCATION:154 N Gamble Street\, Shelby\, OHio Take 39 to Shelby turn left on Main Street and right on Gamble. Head north past 2 lights and 1/4 mile on left
UID:e.2256.636
SEQUENCE:3
DTSTAMP:20260422T174520Z
URL:https://portal.richlandareachamber.com/events/details/membership-drive-04-05-2012-636
END:VEVENT

END:VCALENDAR
