BEGIN:VCALENDAR
VERSION:2.0
PRODID:-//ChamberMaster//Event Calendar 2.0//EN
METHOD:PUBLISH
X-PUBLISHED-TTL:P3D
REFRESH-INTERVAL:P3D
CALSCALE:GREGORIAN
BEGIN:VEVENT
DTSTART:20110316T110000Z
DTEND:20110316T133000Z
X-MICROSOFT-CDO-ALLDAYEVENT:FALSE
SUMMARY:Materials Management Forum III
DESCRIPTION:Kanban Process being presented by Deanne Kushe from the Warren Rupp Co.  The event is being co-sponsored by the Regional Manufacturing Coalition (RMC) and APICS (American Production & Inventory Control Society)
X-ALT-DESC;FMTTYPE=text/html:Kanban Process being presented by Deanne Kushe from the Warren Rupp Co.  The event is being co-sponsored by the Regional Manufacturing Coalition (RMC) and APICS (American Production & Inventory Control Society)
LOCATION:The Gorman-Rupp Co.
UID:e.2256.510
SEQUENCE:3
DTSTAMP:20260424T225421Z
URL:https://portal.richlandareachamber.com/events/details/materials-management-forum-iii-03-16-2011-510
END:VEVENT

END:VCALENDAR
