BEGIN:VCALENDAR
VERSION:2.0
PRODID:-//ChamberMaster//Event Calendar 2.0//EN
METHOD:PUBLISH
X-PUBLISHED-TTL:P3D
REFRESH-INTERVAL:P3D
CALSCALE:GREGORIAN
BEGIN:VEVENT
DTSTART;VALUE=DATE:20090820
DTEND;VALUE=DATE:20090823
TRANSP:TRANSPARENT
X-MICROSOFT-CDO-ALLDAYEVENT:TRUE
SUMMARY:Mansfield Made - Renaissance Theatre
DESCRIPTION:
X-ALT-DESC;FMTTYPE=text/html:
LOCATION:
UID:e.2256.59
SEQUENCE:3
DTSTAMP:20260426T035932Z
URL:https://portal.richlandareachamber.com/events/details/mansfield-made-renaissance-theatre-08-20-2009-59
END:VEVENT

END:VCALENDAR
