BEGIN:VCALENDAR
VERSION:2.0
PRODID:-//ChamberMaster//Event Calendar 2.0//EN
METHOD:PUBLISH
X-PUBLISHED-TTL:P3D
REFRESH-INTERVAL:P3D
CALSCALE:GREGORIAN
BEGIN:VEVENT
DTSTART;VALUE=DATE:20091219
DTEND;VALUE=DATE:20091220
TRANSP:TRANSPARENT
X-MICROSOFT-CDO-ALLDAYEVENT:TRUE
SUMMARY:Mansfield Christmas Bird Count at the Gorman Nature Center
DESCRIPTION:For more information\, please call 419-884-3764 or visit www.gormannaturecenter.org\n2295 Lexington Ave. \, Mansfield\, OH 44907.
X-ALT-DESC;FMTTYPE=text/html:For more information\, please call 419-884-3764 or visit www.gormannaturecenter.org\n2295 Lexington Ave. \, Mansfield\, OH 44907. 
LOCATION:
UID:e.2256.169
SEQUENCE:3
DTSTAMP:20260425T203459Z
URL:https://portal.richlandareachamber.com/events/details/mansfield-christmas-bird-count-at-the-gorman-nature-center-12-19-2009-169
END:VEVENT

END:VCALENDAR
