BEGIN:VCALENDAR
VERSION:2.0
PRODID:-//ChamberMaster//Event Calendar 2.0//EN
METHOD:PUBLISH
X-PUBLISHED-TTL:P3D
REFRESH-INTERVAL:P3D
CALSCALE:GREGORIAN
BEGIN:VEVENT
DTSTART:20090718T210000Z
DTEND:20090718T210000Z
X-MICROSOFT-CDO-ALLDAYEVENT:FALSE
SUMMARY:Mansfield Bike Rally
DESCRIPTION:The 2nd Annual Mansfield Bike Rally (MBR) will kick-off this summer in downtown Mansfield\, Ohio. The rally is being held in conjunction with Super Cycle Weekend at Mid-Ohio Sports Car Course. Activities will include autograph sessions with Pro Super Cycle racers\, rock bands featuring  Wheelie Dyno\, Dyno Shoot-Out\, Stunt Riders\, a Rock Climbing Wall\, all after a motorcycle parade from Mid-Ohio Sports Car Course to downtown on Saturday with staging at 5 PM at Western Elementary.  There will be a bike show (for all makes and manufacturers)\, as well as leather\, biker gear\, t-shirts\, and more! If that's not enough\, there will be a beer garden\, food from local downtown restaurants\, and a variety of food concessions. There will be no events in Downtown Mansfield on Thursday the 16th.   Additional details TBA.
X-ALT-DESC;FMTTYPE=text/html:The 2nd Annual Mansfield Bike Rally (MBR) will kick-off this summer in downtown Mansfield\, Ohio. The rally is being held in conjunction with Super Cycle Weekend at Mid-Ohio Sports Car Course. Activities will include autograph sessions with Pro Super Cycle racers\, rock bands featuring  Wheelie Dyno\, Dyno Shoot-Out\, Stunt Riders\, a Rock Climbing Wall\, all after a motorcycle parade from Mid-Ohio Sports Car Course to downtown on Saturday with staging at 5 PM at Western Elementary.  There will be a bike show (for all makes and manufacturers)\, as well as leather\, biker gear\, t-shirts\, and more! If that's not enough\, there will be a beer garden\, food from local downtown restaurants\, and a variety of food concessions. There will be no events in Downtown Mansfield on Thursday the 16th.   Additional details TBA.
LOCATION:Downtown Mansfield\, Ohio
UID:e.2256.32
SEQUENCE:3
DTSTAMP:20260426T040043Z
URL:https://portal.richlandareachamber.com/events/details/mansfield-bike-rally-07-18-2009-32
END:VEVENT

END:VCALENDAR
