BEGIN:VCALENDAR
VERSION:2.0
PRODID:-//ChamberMaster//Event Calendar 2.0//EN
METHOD:PUBLISH
X-PUBLISHED-TTL:P3D
REFRESH-INTERVAL:P3D
CALSCALE:GREGORIAN
BEGIN:VEVENT
DTSTART:20100703T120000Z
DTEND:20100703T200000Z
X-MICROSOFT-CDO-ALLDAYEVENT:FALSE
SUMMARY:Mansfield Airport Day and Open House
DESCRIPTION:EAA 148th\, Mansfield Aviation Club\, the Ohio National Guard\, and the City of Mansfield invite you to Mansfield Lahm (MFD) Airport Day and Open House\, Fly In\, Pancake breakfast\, Lunch\, Car Show\, Military & Civilian static displays\, Kids Area\, Historical exhibits and lectures to be held Saturday July 3\, 2010 from 8 to 4.  Airplane rides available for purchase.
X-ALT-DESC;FMTTYPE=text/html:EAA 148th\, Mansfield Aviation Club\, the Ohio National Guard\, and the City of Mansfield invite you to Mansfield Lahm (MFD) Airport Day and Open House\, Fly In\, Pancake breakfast\, Lunch\, Car Show\, Military & Civilian static displays\, Kids Area\, Historical exhibits and lectures to be held Saturday July 3\, 2010 from 8 to 4.  Airplane rides available for purchase.
LOCATION:Mansfield Airport
UID:e.2256.319
SEQUENCE:3
DTSTAMP:20260425T110323Z
URL:https://portal.richlandareachamber.com/events/details/mansfield-airport-day-and-open-house-07-03-2010-319
END:VEVENT

END:VCALENDAR
