BEGIN:VCALENDAR
VERSION:2.0
PRODID:-//ChamberMaster//Event Calendar 2.0//EN
METHOD:PUBLISH
X-PUBLISHED-TTL:P3D
REFRESH-INTERVAL:P3D
CALSCALE:GREGORIAN
BEGIN:VEVENT
DTSTART:20110702T120000Z
DTEND:20110702T120000Z
X-MICROSOFT-CDO-ALLDAYEVENT:FALSE
SUMMARY:Mansfield Airport Day
DESCRIPTION:Airport Festival
X-ALT-DESC;FMTTYPE=text/html:Airport Festival
LOCATION:Mansfield Lahm Airport
UID:e.2256.554
SEQUENCE:3
DTSTAMP:20260424T164905Z
URL:https://portal.richlandareachamber.com/events/details/mansfield-airport-day-07-02-2011-554
END:VEVENT

END:VCALENDAR
