BEGIN:VCALENDAR
VERSION:2.0
PRODID:-//ChamberMaster//Event Calendar 2.0//EN
METHOD:PUBLISH
X-PUBLISHED-TTL:P3D
REFRESH-INTERVAL:P3D
CALSCALE:GREGORIAN
BEGIN:VEVENT
DTSTART:20091023T120000Z
DTEND:20091024T210000Z
X-MICROSOFT-CDO-ALLDAYEVENT:FALSE
SUMMARY:Make a Difference Food Drive
DESCRIPTION:Help Restock Local Pantries!\n\nSalvation Army • Domestic Violence Shelter • Volunteers of America • Harmony House • Catholic Charities • Butler Clearfork Nutrition\n\nFriday Oct. 23\, 8-5\nSaturday\, Oct. 24 8-5\n\nPlease call Doc Stumbo at 419-529-1260 for fax 419-529-1887 if you or your business wish to participate.  Volunteers will be available to pick up donations.\n\nThank you for your support!
X-ALT-DESC;FMTTYPE=text/html:Help Restock Local Pantries!\n\nSalvation Army • Domestic Violence Shelter • Volunteers of America • Harmony House • Catholic Charities • Butler Clearfork Nutrition\n\nFriday Oct. 23\, 8-5\nSaturday\, Oct. 24 8-5\n\nPlease call Doc Stumbo at 419-529-1260 for fax 419-529-1887 if you or your business wish to participate.  Volunteers will be available to pick up donations.\n\nThank you for your support!
LOCATION:
UID:e.2256.87
SEQUENCE:3
DTSTAMP:20260425T232435Z
URL:https://portal.richlandareachamber.com/events/details/make-a-difference-food-drive-10-23-2009-87
END:VEVENT

END:VCALENDAR
