BEGIN:VCALENDAR
VERSION:2.0
PRODID:-//ChamberMaster//Event Calendar 2.0//EN
METHOD:PUBLISH
X-PUBLISHED-TTL:P3D
REFRESH-INTERVAL:P3D
CALSCALE:GREGORIAN
BEGIN:VEVENT
DTSTART:20100722T213000Z
DTEND:20100722T213000Z
X-MICROSOFT-CDO-ALLDAYEVENT:FALSE
SUMMARY:Maidens IV concert at Elmcroft of Ontario
DESCRIPTION:Bring the family and join us for an evening outdoors.  The Maidens IV\, a Celtic infused Folk Rock group will be performing on Thursday\, July 22nd.  Elmcroft will be providing a light dinner including hot sandwiches\, salads\, fruit\, cookies\, etc.  Dinner will be served starting at 5:30pm and the concert will begin at 6:30pm.    This is a free event and open to the community.
X-ALT-DESC;FMTTYPE=text/html:Bring the family and join us for an evening outdoors.  The Maidens IV\, a Celtic infused Folk Rock group will be performing on Thursday\, July 22nd.  Elmcroft will be providing a light dinner including hot sandwiches\, salads\, fruit\, cookies\, etc.  Dinner will be served starting at 5:30pm and the concert will begin at 6:30pm.    This is a free event and open to the community.  
LOCATION:Elmcroft of Ontario 2010 Walker Lake Rd. Located directly across from Menards and next door to Panera Bread.
UID:e.2256.329
SEQUENCE:3
DTSTAMP:20260425T121922Z
URL:https://portal.richlandareachamber.com/events/details/maidens-iv-concert-at-elmcroft-of-ontario-07-22-2010-329
END:VEVENT

END:VCALENDAR
