BEGIN:VCALENDAR
VERSION:2.0
PRODID:-//ChamberMaster//Event Calendar 2.0//EN
METHOD:PUBLISH
X-PUBLISHED-TTL:P3D
REFRESH-INTERVAL:P3D
CALSCALE:GREGORIAN
BEGIN:VEVENT
DTSTART:20110430T140000Z
DTEND:20110430T060000Z
X-MICROSOFT-CDO-ALLDAYEVENT:FALSE
SUMMARY:Lisa Doster
DESCRIPTION:Turn in your unused or expired medication for safe disposal.
X-ALT-DESC;FMTTYPE=text/html:Turn in your unused or expired medication for safe disposal.
LOCATION:Mansfield Police Department\, 1125 National Parkway Richland County Sherriff's Office\, 597 Park Ave West Bellville Police Department\, 320 Bell Street Lexington Police Department\, 44 West Main Street Shelby Police Department\, 3100 Wareham Road
UID:e.2256.585
SEQUENCE:3
DTSTAMP:20260424T212400Z
URL:https://portal.richlandareachamber.com/events/details/lisa-doster-04-30-2011-585
END:VEVENT

END:VCALENDAR
