BEGIN:VCALENDAR
VERSION:2.0
PRODID:-//ChamberMaster//Event Calendar 2.0//EN
METHOD:PUBLISH
X-PUBLISHED-TTL:P3D
REFRESH-INTERVAL:P3D
CALSCALE:GREGORIAN
BEGIN:VEVENT
DTSTART:20111129T000000Z
DTEND:20111129T010000Z
X-MICROSOFT-CDO-ALLDAYEVENT:FALSE
SUMMARY:Light Up Lexington
DESCRIPTION:Light Up Lexington\nLexington churches are once again offering a presentation of the "Living Nativity" at Light Up Lexington on Monday\, November 28th\, 7-8:00 p.m.  The "Living Nativity" will be set up in front of the Sharrock Insurance Agency\, 10 Plymouth St.  The Salvation Army's red kettle will also be there.  Along with special music\, hot chocolate\, cookies and brownies will be served.\n\n\n\nContact Information:\n\nLexington Church of the Cross - 419-884-2150\nRuth White - rdwhite1114@embarqmail.com
X-ALT-DESC;FMTTYPE=text/html:Light Up Lexington\nLexington churches are once again offering a presentation of the "Living Nativity" at Light Up Lexington on Monday\, November 28th\, 7-8:00 p.m.  The "Living Nativity" will be set up in front of the Sharrock Insurance Agency\, 10 Plymouth St.  The Salvation Army's red kettle will also be there.  Along with special music\, hot chocolate\, cookies and brownies will be served.\n\n\n\nContact Information:\n\nLexington Church of the Cross - 419-884-2150\nRuth White - rdwhite1114@embarqmail.com\n
LOCATION:
UID:e.2256.631
SEQUENCE:3
DTSTAMP:20260424T095039Z
URL:https://portal.richlandareachamber.com/events/details/light-up-lexington-11-28-2011-631
END:VEVENT

END:VCALENDAR
