BEGIN:VCALENDAR
VERSION:2.0
PRODID:-//ChamberMaster//Event Calendar 2.0//EN
METHOD:PUBLISH
X-PUBLISHED-TTL:P3D
REFRESH-INTERVAL:P3D
CALSCALE:GREGORIAN
BEGIN:VEVENT
DTSTART:20100426T153000Z
DTEND:20100426T153000Z
X-MICROSOFT-CDO-ALLDAYEVENT:FALSE
SUMMARY:Latino Festival
DESCRIPTION:The OSU-M/NCSC Arts & Lectures Series will sponsor a ''Latino Festival'' from April 26- May 7.\n	The opening event will be an art exhibition of Mexican artists that is part of the private collection of the late Marion and Wynn Goodman.  An opening reception will be held April 26 (Mon.) from 11:30 a.m. – 1:00 p.m. in the Eisenhower Student Union.\n	On May 3 (Mon.)\, the Salvador Torres' Mariachi Band will give a free strolling performance from \n11:00 a.m. – 1:00 p.m. in the Eisenhower Campus Café.\n	World-renowned master drummer and composer Bobby Sanabria will perform on May 6 (Thurs.) at 5:30 p.m. in Conard Performance Hall in Riedl Hall.  He will be joined by The Roberto Ocasio Latin Jazz Project.  For free tickets for this concert\, call 419-755-4314.\n	On May 7 (Fri.)\, Spanish lecturer Rhonda Moody will teach the audience how to prepare some of her favorite Mexican foods.  The event will take place at 7:00 p.m. at Café on Main in downtown Mansfield.  Tickets are $3 in advance and can be obtained by calling 419-755-4314.  Tickets must be picked up by Thursday\, April 29.
X-ALT-DESC;FMTTYPE=text/html:The OSU-M/NCSC Arts & Lectures Series will sponsor a ''Latino Festival'' from April 26- May 7.\n	The opening event will be an art exhibition of Mexican artists that is part of the private collection of the late Marion and Wynn Goodman.  An opening reception will be held April 26 (Mon.) from 11:30 a.m. – 1:00 p.m. in the Eisenhower Student Union.\n	On May 3 (Mon.)\, the Salvador Torres' Mariachi Band will give a free strolling performance from \n11:00 a.m. – 1:00 p.m. in the Eisenhower Campus Café.\n	World-renowned master drummer and composer Bobby Sanabria will perform on May 6 (Thurs.) at 5:30 p.m. in Conard Performance Hall in Riedl Hall.  He will be joined by The Roberto Ocasio Latin Jazz Project.  For free tickets for this concert\, call 419-755-4314.\n	On May 7 (Fri.)\, Spanish lecturer Rhonda Moody will teach the audience how to prepare some of her favorite Mexican foods.  The event will take place at 7:00 p.m. at Café on Main in downtown Mansfield.  Tickets are $3 in advance and can be obtained by calling 419-755-4314.  Tickets must be picked up by Thursday\, April 29.\n
LOCATION:Various places: Eisenhower Student Union\, Eisenhower Campus Cafe\, Conard Performance Hall in Riedl Hall and Cafe' on Main in downtown Mansfield
UID:e.2256.303
SEQUENCE:3
DTSTAMP:20260425T153635Z
URL:https://portal.richlandareachamber.com/events/details/latino-festival-04-26-2010-303
END:VEVENT

END:VCALENDAR
