BEGIN:VCALENDAR
VERSION:2.0
PRODID:-//ChamberMaster//Event Calendar 2.0//EN
METHOD:PUBLISH
X-PUBLISHED-TTL:P3D
REFRESH-INTERVAL:P3D
CALSCALE:GREGORIAN
BEGIN:VEVENT
DTSTART:20111110T140000Z
DTEND:20111202T020000Z
X-MICROSOFT-CDO-ALLDAYEVENT:FALSE
SUMMARY:Junior Achievement Online Holiday Auction
DESCRIPTION:Junior Achievement is presenting the 2011 Online Holiday Auction\, to raise funds which will educate local students  through in-school programs. These programs teach kindergarten through high school students about financial literacy\, work force readiness\, and entrepreneurship. \n\nThe Online Holiday Auction is open from November 10th at 9:00am through December 1st at 9:00pm. There are a wide range of items to bid on such as vacation packages\, gift baskets\, family fun activities\, sporting events\, and more! \n\nTo participate in this fundraising event and help local children\, go to http://jaofakronarea.cmarket.com. There are over hundreds of items on the Auction site\; all of which have been donated from local businesses to support the Junior Achievement educational programs.
X-ALT-DESC;FMTTYPE=text/html:Junior Achievement is presenting the 2011 Online Holiday Auction\, to raise funds which will educate local students  through in-school programs. These programs teach kindergarten through high school students about financial literacy\, work force readiness\, and entrepreneurship. \n\nThe Online Holiday Auction is open from November 10th at 9:00am through December 1st at 9:00pm. There are a wide range of items to bid on such as vacation packages\, gift baskets\, family fun activities\, sporting events\, and more! \n\nTo participate in this fundraising event and help local children\, go to http://jaofakronarea.cmarket.com. There are over hundreds of items on the Auction site\; all of which have been donated from local businesses to support the Junior Achievement educational programs. 
LOCATION:Online at: http://jaofakronarea.cmarket.com
UID:e.2256.618
SEQUENCE:3
DTSTAMP:20260424T083049Z
URL:https://portal.richlandareachamber.com/events/details/junior-achievement-online-holiday-auction-11-10-2011-618
END:VEVENT

END:VCALENDAR
