BEGIN:VCALENDAR
VERSION:2.0
PRODID:-//ChamberMaster//Event Calendar 2.0//EN
METHOD:PUBLISH
X-PUBLISHED-TTL:P3D
REFRESH-INTERVAL:P3D
CALSCALE:GREGORIAN
BEGIN:VEVENT
DTSTART;VALUE=DATE:20100403
DTEND;VALUE=DATE:20100404
TRANSP:TRANSPARENT
X-MICROSOFT-CDO-ALLDAYEVENT:TRUE
SUMMARY:Joseph & the Amazing Technicolor Dream Coat at the Mansfield Playhouse
DESCRIPTION:For more information contact the Mansfield Playhouse at 419-522-2883 or http://www.mansfieldplayhouse.com
X-ALT-DESC;FMTTYPE=text/html:<font face="Garamond" color="#000000" size="3">For more information&nbsp\;contact&nbsp\;the Mansfield Playhouse at&nbsp\;419-522-2883 or http://www.mansfieldplayhouse.com<br />\n</font>
LOCATION:
UID:e.2256.225
SEQUENCE:3
DTSTAMP:20260425T165036Z
URL:https://portal.richlandareachamber.com/events/details/joseph-the-amazing-technicolor-dream-coat-at-the-mansfield-playhouse-04-03-2010-225
END:VEVENT

END:VCALENDAR
