BEGIN:VCALENDAR
VERSION:2.0
PRODID:-//ChamberMaster//Event Calendar 2.0//EN
METHOD:PUBLISH
X-PUBLISHED-TTL:P3D
REFRESH-INTERVAL:P3D
CALSCALE:GREGORIAN
BEGIN:VEVENT
DTSTART:20100220T000000Z
DTEND:20100220T000000Z
X-MICROSOFT-CDO-ALLDAYEVENT:FALSE
SUMMARY:Jazz Performance
DESCRIPTION:Free jazz performance by Shawn "Thunder" Wallace\, assistant professor of music at The Ohio State University with the OSU Jazz Ensemble.
X-ALT-DESC;FMTTYPE=text/html:Free jazz performance by Shawn "Thunder" Wallace\, assistant professor of music at The Ohio State University with the OSU Jazz Ensemble.
LOCATION:The OSU Mansfield campus
UID:e.2256.279
SEQUENCE:3
DTSTAMP:20260425T180358Z
URL:https://portal.richlandareachamber.com/events/details/jazz-performance-02-19-2010-279
END:VEVENT

END:VCALENDAR
