BEGIN:VCALENDAR
VERSION:2.0
PRODID:-//ChamberMaster//Event Calendar 2.0//EN
METHOD:PUBLISH
X-PUBLISHED-TTL:P3D
REFRESH-INTERVAL:P3D
CALSCALE:GREGORIAN
BEGIN:VEVENT
DTSTART:20121108T140000Z
DTEND:20121130T020000Z
X-MICROSOFT-CDO-ALLDAYEVENT:FALSE
SUMMARY:JA Online Holiday Auction
DESCRIPTION:The Junior Achievement Online Holiday Auction will kick-off on November 8th at 9:00am and run for 3 weeks at www.biddingforgood.com/juniorachievement\n\nJunior Achievement will be auctioning off a variety of items including vacation packages\, gift baskets\, sporting events\, dining gift certificates\, spa packages\, family fun activities and much more! All of the items featured on the Auction have been generously donated by local businesses. Proceeds raised from the Online Holiday Auction will help benefit over 43\,000 K-12 students in Northeast Ohio.\n \nJunior Achievement is a non-profit organization whose mission is to inspire and prepare young people to succeed in a global economy. Through a dedicated volunteer network\, JA provides in-school and after-school programs to students in grades K - 12 that focus on the three content areas of workforce readiness\, entrepreneurship\, and financial literacy. JA programs help prepare young people for the real world by showing them how to generate wealth and effectively manage it\, how to create jobs which make their communities more robust\, and how to apply entrepreneurial thinking to the workplace. Students put these lessons into action and learn the value of contributing to their communities.
X-ALT-DESC;FMTTYPE=text/html:The Junior Achievement Online Holiday Auction will kick-off on November 8th at 9:00am and run for 3 weeks at www.biddingforgood.com/juniorachievement\n\nJunior Achievement will be auctioning off a variety of items including vacation packages\, gift baskets\, sporting events\, dining gift certificates\, spa packages\, family fun activities and much more! All of the items featured on the Auction have been generously donated by local businesses. Proceeds raised from the Online Holiday Auction will help benefit over 43\,000 K-12 students in Northeast Ohio.\n \nJunior Achievement is a non-profit organization whose mission is to inspire and prepare young people to succeed in a global economy. Through a dedicated volunteer network\, JA provides in-school and after-school programs to students in grades K - 12 that focus on the three content areas of workforce readiness\, entrepreneurship\, and financial literacy. JA programs help prepare young people for the real world by showing them how to generate wealth and effectively manage it\, how to create jobs which make their communities more robust\, and how to apply entrepreneurial thinking to the workplace. Students put these lessons into action and learn the value of contributing to their communities. 
LOCATION:http://www.biddingforgood.com/juniorachievement
UID:e.2256.691
SEQUENCE:3
DTSTAMP:20260420T045250Z
URL:https://portal.richlandareachamber.com/events/details/ja-online-holiday-auction-11-08-2012-691
END:VEVENT

END:VCALENDAR
