BEGIN:VCALENDAR
VERSION:2.0
PRODID:-//ChamberMaster//Event Calendar 2.0//EN
METHOD:PUBLISH
X-PUBLISHED-TTL:P3D
REFRESH-INTERVAL:P3D
CALSCALE:GREGORIAN
BEGIN:VEVENT
DTSTART;VALUE=DATE:20100807
DTEND;VALUE=DATE:20100808
TRANSP:TRANSPARENT
X-MICROSOFT-CDO-ALLDAYEVENT:TRUE
SUMMARY:Indy Car Race at the Mid-Ohio Sports Car Course
DESCRIPTION:For more information\, please call 800-mid-ohio or visit www.midohio.com\n7721 Steam Corners Rd. \, Lexington\, Ohio 44904.
X-ALT-DESC;FMTTYPE=text/html:For more information\, please call 800-mid-ohio or visit www.midohio.com\n7721 Steam Corners Rd. \, Lexington\, Ohio 44904. 
LOCATION:
UID:e.2256.188
SEQUENCE:3
DTSTAMP:20260425T110735Z
URL:https://portal.richlandareachamber.com/events/details/indy-car-race-at-the-mid-ohio-sports-car-course-08-07-2010-188
END:VEVENT

END:VCALENDAR
