BEGIN:VCALENDAR
VERSION:2.0
PRODID:-//ChamberMaster//Event Calendar 2.0//EN
METHOD:PUBLISH
X-PUBLISHED-TTL:P3D
REFRESH-INTERVAL:P3D
CALSCALE:GREGORIAN
BEGIN:VEVENT
DTSTART:20100228T200000Z
DTEND:20100228T200000Z
X-MICROSOFT-CDO-ALLDAYEVENT:FALSE
SUMMARY:I Love You\, You're Perfect\, Now Change
DESCRIPTION:Off-Broadway's phenomenal longest-running musical\, it celebrates the modern-day suburban mating game as it explores the joys of romance\, marriage\, lovers\, husbands\, wives\, and in-laws.\n\n\n    Get more information HERE
X-ALT-DESC;FMTTYPE=text/html:<p>\n    Off-Broadway's phenomenal longest-running musical\, it celebrates the modern-day suburban mating game as it explores the joys of romance\, marriage\, lovers\, husbands\, wives\, and in-laws.\n</p>\n<p>\n    Get more information <a href="http://www.mansfieldtickets.com/events/all">HERE</a><a href="http://www.mansfieldtickets.com/events/all"></a><a href="http://www.mansfieldtickets.com/events/all"></a> \n</p>
LOCATION:
UID:e.2256.131
SEQUENCE:3
DTSTAMP:20260425T180914Z
URL:https://portal.richlandareachamber.com/events/details/i-love-you-you-re-perfect-now-change-02-28-2010-131
END:VEVENT

END:VCALENDAR
