BEGIN:VCALENDAR
VERSION:2.0
PRODID:-//ChamberMaster//Event Calendar 2.0//EN
METHOD:PUBLISH
X-PUBLISHED-TTL:P3D
REFRESH-INTERVAL:P3D
CALSCALE:GREGORIAN
BEGIN:VEVENT
DTSTART;VALUE=DATE:20100312
DTEND;VALUE=DATE:20100313
TRANSP:TRANSPARENT
X-MICROSOFT-CDO-ALLDAYEVENT:TRUE
SUMMARY:Home Show at the Richland County Fairgrounds
DESCRIPTION:Ideas for home improvements where specialists\, builders\, remodelers and more can help with your plans at this 3 day indoor event. \n\n\n    Hours are: Friday 5 PM - 9 PM\, Saturday 9 AM - 8 PM\, Sunday 11 AM - 5 PM For more information\, please visit www.midohiohomeshow.com 750 N. Home Rd. \, Mansfield\, 44906.
X-ALT-DESC;FMTTYPE=text/html:<p>\n    Ideas for home improvements where specialists\, builders\, remodelers and more can help with your plans at this 3 day indoor event. \n</p>\n<p>\n    Hours are: Friday 5 PM - 9 PM\, Saturday 9 AM - 8 PM\, Sunday 11 AM - 5 PM For more information\, please visit www.midohiohomeshow.com 750 N. Home Rd. \, Mansfield\, 44906.\n</p>
LOCATION:
UID:e.2256.177
SEQUENCE:3
DTSTAMP:20260425T164854Z
URL:https://portal.richlandareachamber.com/events/details/home-show-at-the-richland-county-fairgrounds-03-12-2010-177
END:VEVENT

END:VCALENDAR
