BEGIN:VCALENDAR
VERSION:2.0
PRODID:-//ChamberMaster//Event Calendar 2.0//EN
METHOD:PUBLISH
X-PUBLISHED-TTL:P3D
REFRESH-INTERVAL:P3D
CALSCALE:GREGORIAN
BEGIN:VEVENT
DTSTART:20091219T200000Z
DTEND:20091219T200000Z
X-MICROSOFT-CDO-ALLDAYEVENT:FALSE
SUMMARY:Holiday Spectacular: A Renaissance Family Tradition
DESCRIPTION:The Mansfield Symphony and Chorus along with Neos Dance Theatre will usher in the Holiday Season!\n\n\n    Get more information HERE
X-ALT-DESC;FMTTYPE=text/html:<p>\n    The Mansfield Symphony and Chorus along with Neos Dance Theatre will usher in the Holiday Season!\n</p>\n<p>\n    Get more information <a href="http://www.mansfieldtickets.com/events/all">HERE</a><a href="http://www.mansfieldtickets.com/events/all"></a><a href="http://www.mansfieldtickets.com/events/all"></a> \n</p>
LOCATION:
UID:e.2256.119
SEQUENCE:3
DTSTAMP:20260425T203459Z
URL:https://portal.richlandareachamber.com/events/details/holiday-spectacular-a-renaissance-family-tradition-12-19-2009-119
END:VEVENT

END:VCALENDAR
