BEGIN:VCALENDAR
VERSION:2.0
PRODID:-//ChamberMaster//Event Calendar 2.0//EN
METHOD:PUBLISH
X-PUBLISHED-TTL:P3D
REFRESH-INTERVAL:P3D
CALSCALE:GREGORIAN
BEGIN:VEVENT
DTSTART:20111119T150000Z
DTEND:20111119T160000Z
X-MICROSOFT-CDO-ALLDAYEVENT:FALSE
SUMMARY:Holiday Parade
DESCRIPTION:Holiday Parade
X-ALT-DESC;FMTTYPE=text/html:Holiday Parade
LOCATION:North Main Street
UID:e.2256.581
SEQUENCE:3
DTSTAMP:20260424T095708Z
URL:https://portal.richlandareachamber.com/events/details/holiday-parade-11-19-2011-581
END:VEVENT

END:VCALENDAR
