BEGIN:VCALENDAR
VERSION:2.0
PRODID:-//ChamberMaster//Event Calendar 2.0//EN
METHOD:PUBLISH
X-PUBLISHED-TTL:P3D
REFRESH-INTERVAL:P3D
CALSCALE:GREGORIAN
BEGIN:VEVENT
DTSTART:20091204T160000Z
DTEND:20091205T220000Z
X-MICROSOFT-CDO-ALLDAYEVENT:FALSE
SUMMARY:Holiday Open House
DESCRIPTION:Santa Claus has arrived!! Bring the kids to meet Santa Claus! Stop for refreshments. Bring your camera! Special Holiday Sales!
X-ALT-DESC;FMTTYPE=text/html:Santa Claus has arrived!! Bring the kids to meet Santa Claus! Stop for refreshments. Bring your camera! Special Holiday Sales!
LOCATION:Alta Florist & Greenhouse
UID:e.2256.251
SEQUENCE:3
DTSTAMP:20260425T203112Z
URL:https://portal.richlandareachamber.com/events/details/holiday-open-house-12-04-2009-251
END:VEVENT

END:VCALENDAR
