BEGIN:VCALENDAR
VERSION:2.0
PRODID:-//ChamberMaster//Event Calendar 2.0//EN
METHOD:PUBLISH
X-PUBLISHED-TTL:P3D
REFRESH-INTERVAL:P3D
CALSCALE:GREGORIAN
BEGIN:VEVENT
DTSTART:20121201T180000Z
DTEND:20121201T220000Z
X-MICROSOFT-CDO-ALLDAYEVENT:FALSE
SUMMARY:Holiday Home Tour
DESCRIPTION:Downtown Mansfield\, Inc. and The Woodland Club invite you to take a self guided tour through several distinctive and historic homes located in the Woodland neighborhood.  Tickets are $25 and available for pre-sale at www.woodlandtour.eventbrite.com or by calling 419-522-0099.  Tickets will also be available on the day of the event at 501 Woodhill Road.
X-ALT-DESC;FMTTYPE=text/html:Downtown Mansfield\, Inc. and The Woodland Club invite you to take a self guided tour through several distinctive and historic homes located in the Woodland neighborhood.  Tickets are $25 and available for pre-sale at www.woodlandtour.eventbrite.com or by calling 419-522-0099.  Tickets will also be available on the day of the event at 501 Woodhill Road. 
LOCATION:501 Woodhill Road Mansfield\, Ohio 44907
UID:e.2256.709
SEQUENCE:3
DTSTAMP:20260420T041805Z
URL:https://portal.richlandareachamber.com/events/details/holiday-home-tour-12-01-2012-709
END:VEVENT

END:VCALENDAR
