BEGIN:VCALENDAR
VERSION:2.0
PRODID:-//ChamberMaster//Event Calendar 2.0//EN
METHOD:PUBLISH
X-PUBLISHED-TTL:P3D
REFRESH-INTERVAL:P3D
CALSCALE:GREGORIAN
BEGIN:VEVENT
DTSTART:20111218T190000Z
DTEND:20111218T220000Z
X-MICROSOFT-CDO-ALLDAYEVENT:FALSE
SUMMARY:Holiday at Hemlock Falls
DESCRIPTION:Bring your family and friends to Mohican Outdoor School Hemlock Falls Center. Enjoy a winter hike\, visit with Santa\, make an ornament to take home & help decorate a winter tree to feed the birds. Cookies and hot chocolate will be served. Get a picture with Santa. Cost $5.00 per person.
X-ALT-DESC;FMTTYPE=text/html:Bring your family and friends to Mohican Outdoor School Hemlock Falls Center. Enjoy a winter hike\, visit with Santa\, make an ornament to take home & help decorate a winter tree to feed the birds. Cookies and hot chocolate will be served. Get a picture with Santa. Cost $5.00 per person. 
LOCATION:Event is at the Mohican Outdoor School Hemlock Falls Center 5391 Bunkerhill Rd. N. It is between Routes 95 and 97 on the east side of the road.
UID:e.2256.629
SEQUENCE:3
DTSTAMP:20260424T082722Z
URL:https://portal.richlandareachamber.com/events/details/holiday-at-hemlock-falls-12-18-2011-629
END:VEVENT

END:VCALENDAR
