BEGIN:VCALENDAR
VERSION:2.0
PRODID:-//ChamberMaster//Event Calendar 2.0//EN
METHOD:PUBLISH
X-PUBLISHED-TTL:P3D
REFRESH-INTERVAL:P3D
CALSCALE:GREGORIAN
BEGIN:VEVENT
DTSTART:20111208T230000Z
DTEND:20111212T020000Z
X-MICROSOFT-CDO-ALLDAYEVENT:FALSE
SUMMARY:Herlihy-Bednarz Christmas Open House
DESCRIPTION:Private family home opens up for families to visit for the holiday season.  Over 30 trees are displayed plus many collections\, trains\, etc.  Minimum of $1.00 donation per person is given to Toy Time and A Special Wish.  Bring the whole family Dec. 8 - 11 from 6 - 10pm to 170 W. 2nd Street in Mansfield (behind Herlihy-Chambers Funeral Home).
X-ALT-DESC;FMTTYPE=text/html:Private family home opens up for families to visit for the holiday season.  Over 30 trees are displayed plus many collections\, trains\, etc.  Minimum of $1.00 donation per person is given to Toy Time and A Special Wish.  Bring the whole family Dec. 8 - 11 from 6 - 10pm to 170 W. 2nd Street in Mansfield (behind Herlihy-Chambers Funeral Home).
LOCATION:170 W. 2nd Street\, Mansfield. Downtown Mansfield behind Herlihy-Chambers Funeral Home.
UID:e.2256.622
SEQUENCE:3
DTSTAMP:20260424T083104Z
URL:https://portal.richlandareachamber.com/events/details/herlihy-bednarz-christmas-open-house-12-08-2011-622
END:VEVENT

END:VCALENDAR
