BEGIN:VCALENDAR
VERSION:2.0
PRODID:-//ChamberMaster//Event Calendar 2.0//EN
METHOD:PUBLISH
X-PUBLISHED-TTL:P3D
REFRESH-INTERVAL:P3D
CALSCALE:GREGORIAN
BEGIN:VEVENT
DTSTART:20120421T143000Z
DTEND:20120421T143000Z
X-MICROSOFT-CDO-ALLDAYEVENT:FALSE
SUMMARY:Herb Daze
DESCRIPTION:A whole day devoted to increaseing your knowledge about herbs and their uses. There will be speakers on the many aspects of herbs\; cooking\, growing inside and outside\, pet care\, tinctures\, syrups and infusions. Free recipes\, free handouts\, free samples and herbal vendors.\nWhether you've been gardening a long time or you're a newbie\, you'll be truly enjoy Alta's Herb Daze!!
X-ALT-DESC;FMTTYPE=text/html:A whole day devoted to increaseing your knowledge about herbs and their uses. There will be speakers on the many aspects of herbs\; cooking\, growing inside and outside\, pet care\, tinctures\, syrups and infusions. Free recipes\, free handouts\, free samples and herbal vendors.\nWhether you've been gardening a long time or you're a newbie\, you'll be truly enjoy Alta's Herb Daze!!
LOCATION:Alta Florist & Greenhouse\, 935 Home Road South\, Mansfield\, OH 44906
UID:e.2256.658
SEQUENCE:3
DTSTAMP:20260422T163329Z
URL:https://portal.richlandareachamber.com/events/details/herb-daze-04-21-2012-658
END:VEVENT

END:VCALENDAR
