BEGIN:VCALENDAR
VERSION:2.0
PRODID:-//ChamberMaster//Event Calendar 2.0//EN
METHOD:PUBLISH
X-PUBLISHED-TTL:P3D
REFRESH-INTERVAL:P3D
CALSCALE:GREGORIAN
BEGIN:VEVENT
DTSTART;VALUE=DATE:20100821
DTEND;VALUE=DATE:20100822
TRANSP:TRANSPARENT
X-MICROSOFT-CDO-ALLDAYEVENT:TRUE
SUMMARY:Heart of the City Cruise In in Downtown Mansfield\, OH
DESCRIPTION:15th Annual Cruise-in Car Event in Downtown Mansfield.  Registration at Park Avenue West and Main St. from 9 AM - 5 PM.  View the cars on display during the afternoon and evening hours.\n\n\n\nFor more information\, please please call 419-522-0099 or visit www.downtownmansfield.com\n\nPark Ave. W and Mailn St. \, Mansfield\, OH 44902.
X-ALT-DESC;FMTTYPE=text/html:<p>\n    15th Annual Cruise-in Car Event in Downtown Mansfield.&nbsp\; Registration at Park Avenue West and Main St. from 9 AM - 5 PM.&nbsp\; View the cars on display during the afternoon and evening hours.\n</p>\n<p>\n</p>\nFor more information\, please please call 419-522-0099 or visit www.downtownmansfield.com<br />\n<span class="event_location">Park Ave. W and Mailn St. \, Mansfield\, OH 44902.</span> 
LOCATION:
UID:e.2256.190
SEQUENCE:3
DTSTAMP:20260425T110848Z
URL:https://portal.richlandareachamber.com/events/details/heart-of-the-city-cruise-in-in-downtown-mansfield-oh-08-21-2010-190
END:VEVENT

END:VCALENDAR
