BEGIN:VCALENDAR
VERSION:2.0
PRODID:-//ChamberMaster//Event Calendar 2.0//EN
METHOD:PUBLISH
X-PUBLISHED-TTL:P3D
REFRESH-INTERVAL:P3D
CALSCALE:GREGORIAN
BEGIN:VEVENT
DTSTART:20100111T230000Z
DTEND:20100112T003000Z
X-MICROSOFT-CDO-ALLDAYEVENT:FALSE
SUMMARY:Health and Wellness Dinner Discussion (no charge)
DESCRIPTION:Community Health and Wellness dinner discussion focusing on prevention and wellcare.  Meet and greet the doctors from Pamer Chiropractic during dinner and dessert at the Brown Derby Roadhouse.  Complimentary dinner and desserts! Reservations required\, please call 419-529-2703 to RSVP.
X-ALT-DESC;FMTTYPE=text/html:Community Health and Wellness dinner discussion focusing on prevention and wellcare.  Meet and greet the doctors from Pamer Chiropractic during dinner and dessert at the Brown Derby Roadhouse.  Complimentary dinner and desserts! Reservations required\, please call 419-529-2703 to RSVP.
LOCATION:Pamer Chiropractic LifeCenter West 300 Lexington Springmill Ave. Mansfield\, OH
UID:e.2256.273
SEQUENCE:3
DTSTAMP:20260425T192701Z
URL:https://portal.richlandareachamber.com/events/details/health-and-wellness-dinner-discussion-no-charge-01-11-2010-273
END:VEVENT

END:VCALENDAR
