BEGIN:VCALENDAR
VERSION:2.0
PRODID:-//ChamberMaster//Event Calendar 2.0//EN
METHOD:PUBLISH
X-PUBLISHED-TTL:P3D
REFRESH-INTERVAL:P3D
CALSCALE:GREGORIAN
BEGIN:VEVENT
DTSTART:20100616T230000Z
DTEND:20100616T230000Z
X-MICROSOFT-CDO-ALLDAYEVENT:FALSE
SUMMARY:HCG Weight Loss Gathering/Ontario Massage Clinic
DESCRIPTION:Please join us and learn about "the secret they don't want you to know about"\nBrief and casual under the tiki hut behind the clinic. NO rsvp!\nwww.ontariomassageclinicoh.com  \n \nSally has been eating cheescake\, ice cream ect and NOT gaining a lb back!!!!!!!!!!!!!!\nWith New Energy!!!!!!
X-ALT-DESC;FMTTYPE=text/html:Please join us and learn about "the secret they don't want you to know about"\nBrief and casual under the tiki hut behind the clinic. NO rsvp!\nwww.ontariomassageclinicoh.com  \n \nSally has been eating cheescake\, ice cream ect and NOT gaining a lb back!!!!!!!!!!!!!!\nWith New Energy!!!!!!
LOCATION:
UID:e.2256.323
SEQUENCE:3
DTSTAMP:20260425T121858Z
URL:https://portal.richlandareachamber.com/events/details/hcg-weight-loss-gathering-ontario-massage-clinic-06-16-2010-323
END:VEVENT

END:VCALENDAR
