BEGIN:VCALENDAR
VERSION:2.0
PRODID:-//ChamberMaster//Event Calendar 2.0//EN
METHOD:PUBLISH
X-PUBLISHED-TTL:P3D
REFRESH-INTERVAL:P3D
CALSCALE:GREGORIAN
BEGIN:VEVENT
DTSTART:20250410T210000Z
DTEND:20250411T010000Z
X-MICROSOFT-CDO-ALLDAYEVENT:FALSE
SUMMARY:Hall of Excellence
DESCRIPTION:You are cordially invited to the North Central Ohio HALL OF EXCELLENCE Dinner and Induction Ceremony benefitting the North Central State College Foundation Join us as we recognize and celebrate the Honorees\; Matt Miller\, Duana Patton and Betty Preston
X-ALT-DESC;FMTTYPE=text/html:You are cordially invited to the North Central Ohio HALL OF EXCELLENCE Dinner and Induction Ceremony benefitting the North Central State College Foundation Join us as we recognize and celebrate the Honorees\; Matt Miller\, Duana Patton and Betty Preston
LOCATION:The James W. Kehoe Center 175 Mansfield Ave. Shelby\, Ohio 44875
UID:e.2256.6202
SEQUENCE:3
DTSTAMP:20260422T052433Z
URL:https://portal.richlandareachamber.com/events/details/hall-of-excellence-6202
END:VEVENT

END:VCALENDAR
