BEGIN:VCALENDAR
VERSION:2.0
PRODID:-//ChamberMaster//Event Calendar 2.0//EN
METHOD:PUBLISH
X-PUBLISHED-TTL:P3D
REFRESH-INTERVAL:P3D
CALSCALE:GREGORIAN
BEGIN:VEVENT
DTSTART;VALUE=DATE:20110522
DTEND;VALUE=DATE:20110523
TRANSP:TRANSPARENT
X-MICROSOFT-CDO-ALLDAYEVENT:TRUE
SUMMARY:Hairspray
DESCRIPTION:Hairspray\nSaturday\, May 21st\, 2011\nSunday\, May 22nd\, 2011 8pm\n3pm HAIRSPRAY delighted audiences by sweeping them away to 1960's Baltimore\, where the 50's are out -- and change is in the air!\n\nIn: Broadway Series\n\n\n\n\n\n\n\nRenaissance Theatre - www.mansfieldtickets.com - 419-522-2726
X-ALT-DESC;FMTTYPE=text/html:Hairspray\nSaturday\, May 21st\, 2011\nSunday\, May 22nd\, 2011 8pm\n3pm HAIRSPRAY delighted audiences by sweeping them away to 1960's Baltimore\, where the 50's are out -- and change is in the air!\n\nIn: Broadway Series\n\n\n\n\n\n\n\nRenaissance Theatre - www.mansfieldtickets.com - 419-522-2726\n
LOCATION:
UID:e.2256.427
SEQUENCE:3
DTSTAMP:20260424T195135Z
URL:https://portal.richlandareachamber.com/events/details/hairspray-05-22-2011-427
END:VEVENT

END:VCALENDAR
