BEGIN:VCALENDAR
VERSION:2.0
PRODID:-//ChamberMaster//Event Calendar 2.0//EN
METHOD:PUBLISH
X-PUBLISHED-TTL:P3D
REFRESH-INTERVAL:P3D
CALSCALE:GREGORIAN
BEGIN:VEVENT
DTSTART:20130521T210000Z
DTEND:20130521T230000Z
X-MICROSOFT-CDO-ALLDAYEVENT:FALSE
SUMMARY:Guitar Clinic with Ken Haas at Harvey's House of Music
DESCRIPTION:Join Reverend Guitar's GM Ken Haas for a clinic on Tuesday\, May 21st at 5:00pm - Harvey's House of Music in Mansfield\, OH!
X-ALT-DESC;FMTTYPE=text/html:Join Reverend Guitar's GM Ken Haas for a clinic on Tuesday\, May 21st at 5:00pm - Harvey's House of Music in Mansfield\, OH!
LOCATION:Harvey's House of Music 486 Indiana Ave Mansfield\, OH 44905
UID:e.2256.791
SEQUENCE:3
DTSTAMP:20260419T185444Z
URL:https://portal.richlandareachamber.com/events/details/guitar-clinic-with-ken-haas-at-harvey-s-house-of-music-05-21-2013-791
END:VEVENT

END:VCALENDAR
